BEGIN:VCALENDAR
VERSION:2.0
PRODID:-//Squarespace Inc/Squarespace 6//v6//EN
BEGIN:VEVENT
UID:5dcb70376d474f159d6d5750@squarespace.com
DTSTAMP:20200121T043442Z
DTSTART:20200204T073000Z
DTEND:20200204T100000Z
SUMMARY:Sketching in Ink
GEO:-37.797835;144.982692
LOCATION:Work-Shop Melbourne\, 195 Argyle Street\, Fitzroy VIC 3065
END:VEVENT
END:VCALENDAR
