BEGIN:VCALENDAR
VERSION:2.0
PRODID:-//Squarespace Inc/Squarespace 6//v6//EN
BEGIN:VEVENT
UID:5f68030def095d17b788fa86@squarespace.com
DTSTAMP:20200921T014454Z
DTSTART:20201208T073000Z
DTEND:20201208T100000Z
SUMMARY:Sketching In Ink Workshop
GEO:-37.797835;144.982692
LOCATION:Work-Shop Melbourne\, 195 Argyle Street\, Fitzroy\, VIC\, 3065\, A
 ustralia
END:VEVENT
END:VCALENDAR
