BEGIN:VCALENDAR
VERSION:2.0
PRODID:-//Squarespace Inc/Squarespace 6//v6//EN
BEGIN:VEVENT
UID:601ce298e65d787cd605849e@squarespace.com
DTSTAMP:20210218T004101Z
DTSTART:20210302T073000Z
DTEND:20210302T083000Z
SUMMARY:Sketching In Ink: Artist Masterclass with Simon O’Carrigan
GEO:-37.797835;144.982692
LOCATION:Work-Shop Melbourne\, 195 Argyle Street\, Fitzroy\, VIC\, 3065\, A
 ustralia
END:VEVENT
END:VCALENDAR
